BEGIN:VCALENDAR
VERSION:2.0
PRODID:-//Caleena &amp; Co - ECPv6.15.20//NONSGML v1.0//EN
CALSCALE:GREGORIAN
METHOD:PUBLISH
X-WR-CALNAME:Caleena &amp; Co
X-ORIGINAL-URL:https://caleena.com
X-WR-CALDESC:Events for Caleena &amp; Co
REFRESH-INTERVAL;VALUE=DURATION:PT1H
X-Robots-Tag:noindex
X-PUBLISHED-TTL:PT1H
BEGIN:VTIMEZONE
TZID:America/New_York
BEGIN:DAYLIGHT
TZOFFSETFROM:-0500
TZOFFSETTO:-0400
TZNAME:EDT
DTSTART:20230312T070000
END:DAYLIGHT
BEGIN:STANDARD
TZOFFSETFROM:-0400
TZOFFSETTO:-0500
TZNAME:EST
DTSTART:20231105T060000
END:STANDARD
BEGIN:DAYLIGHT
TZOFFSETFROM:-0500
TZOFFSETTO:-0400
TZNAME:EDT
DTSTART:20240310T070000
END:DAYLIGHT
BEGIN:STANDARD
TZOFFSETFROM:-0400
TZOFFSETTO:-0500
TZNAME:EST
DTSTART:20241103T060000
END:STANDARD
BEGIN:DAYLIGHT
TZOFFSETFROM:-0500
TZOFFSETTO:-0400
TZNAME:EDT
DTSTART:20250309T070000
END:DAYLIGHT
BEGIN:STANDARD
TZOFFSETFROM:-0400
TZOFFSETTO:-0500
TZNAME:EST
DTSTART:20251102T060000
END:STANDARD
BEGIN:DAYLIGHT
TZOFFSETFROM:-0500
TZOFFSETTO:-0400
TZNAME:EDT
DTSTART:20260308T070000
END:DAYLIGHT
BEGIN:STANDARD
TZOFFSETFROM:-0400
TZOFFSETTO:-0500
TZNAME:EST
DTSTART:20261101T060000
END:STANDARD
END:VTIMEZONE
BEGIN:VEVENT
DTSTART;VALUE=DATE:20250630
DTEND;VALUE=DATE:20250701
DTSTAMP:20260419T154944
CREATED:20250325T185454Z
LAST-MODIFIED:20250325T190418Z
UID:10000066-1751270400-1751302800@caleena.com
SUMMARY:😎 SUMMER HOURS 😎
DESCRIPTION:Starting Monday\, June 2 – Monday\, September 2 \nWe will be closed on Monday’s for the summer only . \nHave a great summer 😉
URL:https://caleena.com/event/%f0%9f%98%8e-summer-hours-%f0%9f%98%8e/2025-06-30/
END:VEVENT
BEGIN:VEVENT
DTSTART;VALUE=DATE:20250623
DTEND;VALUE=DATE:20250624
DTSTAMP:20260419T154944
CREATED:20250325T185454Z
LAST-MODIFIED:20250325T190418Z
UID:10000065-1750665600-1750698000@caleena.com
SUMMARY:😎 SUMMER HOURS 😎
DESCRIPTION:Starting Monday\, June 2 – Monday\, September 2 \nWe will be closed on Monday’s for the summer only . \nHave a great summer 😉
URL:https://caleena.com/event/%f0%9f%98%8e-summer-hours-%f0%9f%98%8e/2025-06-23/
END:VEVENT
BEGIN:VEVENT
DTSTART;VALUE=DATE:20250616
DTEND;VALUE=DATE:20250617
DTSTAMP:20260419T154944
CREATED:20250325T185454Z
LAST-MODIFIED:20250325T190418Z
UID:10000064-1750060800-1750093200@caleena.com
SUMMARY:😎 SUMMER HOURS 😎
DESCRIPTION:Starting Monday\, June 2 – Monday\, September 2 \nWe will be closed on Monday’s for the summer only . \nHave a great summer 😉
URL:https://caleena.com/event/%f0%9f%98%8e-summer-hours-%f0%9f%98%8e/2025-06-16/
END:VEVENT
BEGIN:VEVENT
DTSTART;VALUE=DATE:20250615
DTEND;VALUE=DATE:20250616
DTSTAMP:20260419T154944
CREATED:20250508T182544Z
LAST-MODIFIED:20250508T182630Z
UID:10000098-1749945600-1750031999@caleena.com
SUMMARY:🥃 Father's Day 🥃
DESCRIPTION:
URL:https://caleena.com/event/%f0%9f%a5%83-fathers-day-%f0%9f%a5%83/
END:VEVENT
BEGIN:VEVENT
DTSTART;VALUE=DATE:20250609
DTEND;VALUE=DATE:20250610
DTSTAMP:20260419T154944
CREATED:20250325T185454Z
LAST-MODIFIED:20250325T190418Z
UID:10000063-1749456000-1749488400@caleena.com
SUMMARY:😎 SUMMER HOURS 😎
DESCRIPTION:Starting Monday\, June 2 – Monday\, September 2 \nWe will be closed on Monday’s for the summer only . \nHave a great summer 😉
URL:https://caleena.com/event/%f0%9f%98%8e-summer-hours-%f0%9f%98%8e/2025-06-09/
END:VEVENT
BEGIN:VEVENT
DTSTART;VALUE=DATE:20250602
DTEND;VALUE=DATE:20250603
DTSTAMP:20260419T154944
CREATED:20250325T185454Z
LAST-MODIFIED:20250325T190418Z
UID:10000061-1748822400-1748908799@caleena.com
SUMMARY:😎 SUMMER HOURS 😎
DESCRIPTION:Starting Monday\, June 2 – Monday\, September 2 \nWe will be closed on Monday’s for the summer only . \nHave a great summer 😉
URL:https://caleena.com/event/%f0%9f%98%8e-summer-hours-%f0%9f%98%8e/2025-06-02/
END:VEVENT
BEGIN:VEVENT
DTSTART;VALUE=DATE:20250526
DTEND;VALUE=DATE:20250527
DTSTAMP:20260419T154944
CREATED:20250325T181758Z
LAST-MODIFIED:20250325T181758Z
UID:10000060-1748217600-1748303999@caleena.com
SUMMARY:🌺 Memorial Day
DESCRIPTION:Closed for Memorial Day – Have a Great Day !
URL:https://caleena.com/event/%f0%9f%8c%ba-memorial-day/
END:VEVENT
BEGIN:VEVENT
DTSTART;VALUE=DATE:20250520
DTEND;VALUE=DATE:20250523
DTSTAMP:20260419T154944
CREATED:20250325T181642Z
LAST-MODIFIED:20250325T181642Z
UID:10000059-1747699200-1747958399@caleena.com
SUMMARY:✨ National Rarities Event ✨
DESCRIPTION:The Nation’s Most Trusted Estate Buyers – www.NATIONALRARITIES.com \nWhat they buy \nFINE JEWELRY any age & any style\, gold\, silver & platinum jewelry\, broken or damaged jewelry & designer jewelry \nCOINS & CURRENCY gold & silver soins\, bullion & bars\, old paper money and coin collections \nWATCHES wrist watches & pocket watches\, any condition – (Rolex**\, Breitlling\, Omega\, Elgin\, Waltham\, Illinois\, Hamilton etc.) \nSTERLING SILVER  flatware & serving pieces\, jewelry (turquoise\, southwestern\, etc. ) candlesticks & candelabras -No need to polish. No Silver Plate – \nSCRAP GOLD & SILVER\, dental gold\, old mountings\, class rings & fraternal pins \nDIAMONDS loose & mounted\, Damaged\, any size\, color\, styles \nRARITIES Military Memorabilia ( uniforms\, daggers\, swords\, etc.) pre-1950 advertising & toys\, old photos & autographs (tintypes\, etc. ) \nLUXURY GOODS  Designer Handbags (channel\, fend\, gucci\, hermes\, Louis Vuitton\, Prada\, etc. – we do not buy china or glassware- Pens ( montblanc\, montegrappa\, etc. \n  \n 
URL:https://caleena.com/event/%e2%9c%a8-national-rarities-event-%e2%9c%a8/
END:VEVENT
BEGIN:VEVENT
DTSTART;VALUE=DATE:20250515
DTEND;VALUE=DATE:20250516
DTSTAMP:20260419T154944
CREATED:20250325T175340Z
LAST-MODIFIED:20250327T203057Z
UID:10000058-1747267200-1747353599@caleena.com
SUMMARY:🖤 Caleena's "Forever 40" Party 🖤
DESCRIPTION:Come celebrate Caleena’s forever 40 birthday party !!!! \nwith a 10$ monetary donation\,  receive 40% OFF your entire in- store purchase. \nCaleena will match donations and write a check to Bella Women’s Center please check out their website www.bellawomenscenter.com \n \n  \n 
URL:https://caleena.com/event/%f0%9f%96%a4-caleenas-forever-40-party-%f0%9f%96%a4/
END:VEVENT
BEGIN:VEVENT
DTSTART;TZID=America/New_York:20250511T110000
DTEND;TZID=America/New_York:20250511T160000
DTSTAMP:20260419T154944
CREATED:20250508T182145Z
LAST-MODIFIED:20250508T182145Z
UID:10000097-1746961200-1746979200@caleena.com
SUMMARY:🌸 Open 11 to 4 Mother's Day 🌸
DESCRIPTION:
URL:https://caleena.com/event/%f0%9f%8c%b8-open-11-to-4-mothers-day-%f0%9f%8c%b8/
END:VEVENT
BEGIN:VEVENT
DTSTART;VALUE=DATE:20250508
DTEND;VALUE=DATE:20250512
DTSTAMP:20260419T154944
CREATED:20250325T174756Z
LAST-MODIFIED:20250327T204645Z
UID:10000057-1746662400-1747007999@caleena.com
SUMMARY:🌸 Mother's Day Sale 🌸
DESCRIPTION:4 day sale Thursday May 8 – Sunday May 11 \nPLEASE  schedule  appointment \nOur Hours : \nThur. 10 to 7 /Fri. 10 to 5.30 /Sat. 10 to 2.30 /Sun. ( mothers day only ) 11 to 4 \n \n 
URL:https://caleena.com/event/%f0%9f%8c%b8-mothers-day-sale-%f0%9f%8c%b8/
END:VEVENT
BEGIN:VEVENT
DTSTART;VALUE=DATE:20250417
DTEND;VALUE=DATE:20250420
DTSTAMP:20260419T154944
CREATED:20250325T174101Z
LAST-MODIFIED:20250327T202121Z
UID:10000056-1744848000-1745107199@caleena.com
SUMMARY:🐣 Easter Egg Hunt 🐰
DESCRIPTION:
URL:https://caleena.com/event/%f0%9f%90%a3-easter-egg-hunt-%f0%9f%90%b0/
END:VEVENT
BEGIN:VEVENT
DTSTART;VALUE=DATE:20241231
DTEND;VALUE=DATE:20250102
DTSTAMP:20260419T154944
CREATED:20240827T143221Z
LAST-MODIFIED:20241015T150656Z
UID:10000050-1735603200-1735775999@caleena.com
SUMMARY:Closed For the New Year!🥳🎉
DESCRIPTION:Happy New Year!
URL:https://caleena.com/event/closed-for-the-new-year/
END:VEVENT
BEGIN:VEVENT
DTSTART;VALUE=DATE:20241225
DTEND;VALUE=DATE:20241227
DTSTAMP:20260419T154944
CREATED:20240827T143022Z
LAST-MODIFIED:20241015T150715Z
UID:10000049-1735084800-1735257599@caleena.com
SUMMARY:Closed for Christmas!🎄🎅🏽
DESCRIPTION:Merry Christmas! Have a cheerful holiday with friends and family!
URL:https://caleena.com/event/closed-for-christmas/
END:VEVENT
BEGIN:VEVENT
DTSTART;TZID=America/New_York:20241215T110000
DTEND;TZID=America/New_York:20241215T160000
DTSTAMP:20260419T154944
CREATED:20240827T142720Z
LAST-MODIFIED:20241015T150730Z
UID:10000047-1734260400-1734278400@caleena.com
SUMMARY:Open Sunday!🛍️
DESCRIPTION:Open 7 days a week for the holidays!
URL:https://caleena.com/event/open-sunday-2/
END:VEVENT
BEGIN:VEVENT
DTSTART;TZID=America/New_York:20241212T100000
DTEND;TZID=America/New_York:20241212T173000
DTSTAMP:20260419T154944
CREATED:20240827T144810Z
LAST-MODIFIED:20241015T150824Z
UID:10000055-1733997600-1734024600@caleena.com
SUMMARY:Caleena's 12 days of Christmas!🎄🎁
DESCRIPTION:Today marks the first day of our 12 days of Christmas Giveaways. Follow our Facebook and Instagram to see updates! Facebook: Caleena & Co. Instagram: Caleena_co
URL:https://caleena.com/event/caleenas-12-days-of-christmas/
END:VEVENT
BEGIN:VEVENT
DTSTART;TZID=America/New_York:20241212T100000
DTEND;TZID=America/New_York:20241212T173000
DTSTAMP:20260419T154944
CREATED:20240827T143329Z
LAST-MODIFIED:20241015T150842Z
UID:10000051-1733997600-1734024600@caleena.com
SUMMARY:Hannah House Sale!🛍️
DESCRIPTION:Come support Hannah House with us!
URL:https://caleena.com/event/hannah-house-sale/
END:VEVENT
BEGIN:VEVENT
DTSTART;TZID=America/New_York:20241208T110000
DTEND;TZID=America/New_York:20241208T160000
DTSTAMP:20260419T154944
CREATED:20240827T142552Z
LAST-MODIFIED:20241015T150854Z
UID:10000046-1733655600-1733673600@caleena.com
SUMMARY:Open Sunday!🛍️
DESCRIPTION:Open 7 days a week for the holidays!
URL:https://caleena.com/event/open-sunday/
END:VEVENT
BEGIN:VEVENT
DTSTART;TZID=America/New_York:20241203T100000
DTEND;TZID=America/New_York:20241203T173000
DTSTAMP:20260419T154944
CREATED:20240827T144450Z
LAST-MODIFIED:20241015T150935Z
UID:10000054-1733220000-1733247000@caleena.com
SUMMARY:Giving Tuesday!🤗
DESCRIPTION:With $100+ purchase receive a free Caleena Bracelet up to $49 value!
URL:https://caleena.com/event/giving-tuesday/
END:VEVENT
BEGIN:VEVENT
DTSTART;TZID=America/New_York:20241202T100000
DTEND;TZID=America/New_York:20241202T173000
DTSTAMP:20260419T154944
CREATED:20240827T143501Z
LAST-MODIFIED:20241015T151111Z
UID:10000052-1733133600-1733160600@caleena.com
SUMMARY:Cyber Monday Sale!📱💻🛍️
DESCRIPTION:Shop online to receive a discount!
URL:https://caleena.com/event/cyber-monday-sale/
END:VEVENT
BEGIN:VEVENT
DTSTART;TZID=America/New_York:20241201T110000
DTEND;TZID=America/New_York:20241201T160000
DTSTAMP:20260419T154944
CREATED:20240827T142000Z
LAST-MODIFIED:20241015T151128Z
UID:10000045-1733050800-1733068800@caleena.com
SUMMARY:First Sunday Open!🛍️
DESCRIPTION:We are open 7 days a week for the holiday season!
URL:https://caleena.com/event/first-sunday-open/
END:VEVENT
BEGIN:VEVENT
DTSTART;TZID=America/New_York:20241201T100000
DTEND;TZID=America/New_York:20241201T173000
DTSTAMP:20260419T154944
CREATED:20240826T205129Z
LAST-MODIFIED:20241015T151156Z
UID:10000039-1733047200-1733074200@caleena.com
SUMMARY:December Babies!🩵
DESCRIPTION:Come celebrate your December Birthday with 50% off one piece of jewelry! *some exclusions may apply*
URL:https://caleena.com/event/december-babies/
END:VEVENT
BEGIN:VEVENT
DTSTART;TZID=America/New_York:20241130T100000
DTEND;TZID=America/New_York:20241130T173000
DTSTAMP:20260419T154944
CREATED:20240826T211559Z
LAST-MODIFIED:20241015T151304Z
UID:10000044-1732960800-1732987800@caleena.com
SUMMARY:Small Business Saturday!🛍️🫶🏼
DESCRIPTION:We couldn’t do it without our customers! Shop with us on small business Saturday!
URL:https://caleena.com/event/small-business-saturday-2/
END:VEVENT
BEGIN:VEVENT
DTSTART;TZID=America/New_York:20241129T100000
DTEND;TZID=America/New_York:20241129T173000
DTSTAMP:20260419T154944
CREATED:20240826T210851Z
LAST-MODIFIED:20241015T151420Z
UID:10000043-1732874400-1732901400@caleena.com
SUMMARY:Happy Black Friday Shopping!🛍️💛
DESCRIPTION:Shop at Caleenas this Black Friday!
URL:https://caleena.com/event/happy-black-friday-shopping/
END:VEVENT
BEGIN:VEVENT
DTSTART;TZID=America/New_York:20241128T100000
DTEND;TZID=America/New_York:20241128T173000
DTSTAMP:20260419T154944
CREATED:20240826T210742Z
LAST-MODIFIED:20241015T151816Z
UID:10000042-1732788000-1732815000@caleena.com
SUMMARY:Closed for Thanksgiving!🦃
DESCRIPTION:Have a great Thanksgiving with family and friends!
URL:https://caleena.com/event/closed-for-thanksgiving/
END:VEVENT
BEGIN:VEVENT
DTSTART;TZID=America/New_York:20241123T100000
DTEND;TZID=America/New_York:20241123T143000
DTSTAMP:20260419T154944
CREATED:20240827T144059Z
LAST-MODIFIED:20241015T151839Z
UID:10000053-1732356000-1732372200@caleena.com
SUMMARY:Santa is coming to Caleenas!🎅🏽
DESCRIPTION:Santa Claus and Mrs. Claus are coming to the store! Bring the kiddos to see them!
URL:https://caleena.com/event/santa-is-coming-to-caleenas/
END:VEVENT
BEGIN:VEVENT
DTSTART;TZID=America/New_York:20241121T100000
DTEND;TZID=America/New_York:20241123T173000
DTSTAMP:20260419T154944
CREATED:20240826T210606Z
LAST-MODIFIED:20241015T151859Z
UID:10000041-1732183200-1732383000@caleena.com
SUMMARY:Customer Appreciation Sale!🫶🏼🛍️
DESCRIPTION:This sale if for our amazing customers! We love you all!
URL:https://caleena.com/event/customer-appreciation-sale/
END:VEVENT
BEGIN:VEVENT
DTSTART;TZID=America/New_York:20241101T100000
DTEND;TZID=America/New_York:20241101T173000
DTSTAMP:20260419T154944
CREATED:20240826T204300Z
LAST-MODIFIED:20241015T151919Z
UID:10000038-1730455200-1730482200@caleena.com
SUMMARY:November Babies!💛
DESCRIPTION:Come celebrate your November Birthday with 50% off one piece of jewelry! *some exclusions may apply*
URL:https://caleena.com/event/november-babies/
END:VEVENT
BEGIN:VEVENT
DTSTART;TZID=America/New_York:20241031T100000
DTEND;TZID=America/New_York:20241031T173000
DTSTAMP:20260419T154944
CREATED:20240826T205359Z
LAST-MODIFIED:20241015T152016Z
UID:10000040-1730368800-1730395800@caleena.com
SUMMARY:Witches Brew Sale!🔮🧙🏻‍♀️
DESCRIPTION:Celebrate Halloween with us by receiving 25-50% off!
URL:https://caleena.com/event/witches-brew-sale-3/
END:VEVENT
BEGIN:VEVENT
DTSTART;TZID=America/New_York:20241017T100000
DTEND;TZID=America/New_York:20241019T173000
DTSTAMP:20260419T154944
CREATED:20240826T203903Z
LAST-MODIFIED:20241015T152051Z
UID:10000035-1729159200-1729359000@caleena.com
SUMMARY:Pumpkin Patch Sale!🎃
DESCRIPTION:“Enjoy the Halloween and Thanksgiving season with our Pumpkin Patch Sale—get 25-50% off!”
URL:https://caleena.com/event/pumpkin-patch-sale-2/
END:VEVENT
END:VCALENDAR